BEGIN:VCALENDAR
VERSION:2.0
PRODID:-//DigiViken - ECPv6.15.16//NONSGML v1.0//EN
CALSCALE:GREGORIAN
METHOD:PUBLISH
X-WR-CALNAME:DigiViken
X-ORIGINAL-URL:https://digiviken.no
X-WR-CALDESC:Arrangement for DigiViken
REFRESH-INTERVAL;VALUE=DURATION:PT1H
X-Robots-Tag:noindex
X-PUBLISHED-TTL:PT1H
BEGIN:VTIMEZONE
TZID:Europe/Oslo
BEGIN:DAYLIGHT
TZOFFSETFROM:+0100
TZOFFSETTO:+0200
TZNAME:CEST
DTSTART:20230326T010000
END:DAYLIGHT
BEGIN:STANDARD
TZOFFSETFROM:+0200
TZOFFSETTO:+0100
TZNAME:CET
DTSTART:20231029T010000
END:STANDARD
BEGIN:DAYLIGHT
TZOFFSETFROM:+0100
TZOFFSETTO:+0200
TZNAME:CEST
DTSTART:20240331T010000
END:DAYLIGHT
BEGIN:STANDARD
TZOFFSETFROM:+0200
TZOFFSETTO:+0100
TZNAME:CET
DTSTART:20241027T010000
END:STANDARD
BEGIN:DAYLIGHT
TZOFFSETFROM:+0100
TZOFFSETTO:+0200
TZNAME:CEST
DTSTART:20250330T010000
END:DAYLIGHT
BEGIN:STANDARD
TZOFFSETFROM:+0200
TZOFFSETTO:+0100
TZNAME:CET
DTSTART:20251026T010000
END:STANDARD
END:VTIMEZONE
BEGIN:VEVENT
DTSTART;TZID=Europe/Oslo:20240530T120500
DTEND;TZID=Europe/Oslo:20240530T143000
DTSTAMP:20260421T160933
CREATED:20240513T201535Z
LAST-MODIFIED:20240522T072609Z
UID:3724-1717070700-1717079400@digiviken.no
SUMMARY:Erfaringsdeling: ebyggesøknader
DESCRIPTION:Det begynner å bli noen år siden DiBK lyste ut konsesjoner for å lage ebyggesøknadsløsninger. Det er i dag 6 leverandører av ebyggesøknadsløsninger for profesjonelle\, og kun en leverandør for privatpersoner (søknad uten ansvarsrett). \n\n\n\nAgendaen for møtet er 3 delt.  Vi får innledning fra DiBK og Norkart før vi deler erfaringer mellom de som deltar i møtet. \n\n\n\nDirektoratet for Byggkvalitet (DiBK) \n\n\n\nStatistikken \n\n\n\n\nHva var andelen digitale søknader via deres tidligere løsning\n\n\n\nHva er andelen søknader i dag?\n\n\n\nEr det stor forskjell på profesjonelle og private når det gjelder å søke digitalt?\n\n\n\n\n\nHvordan har det gått med de som fikk konsesjon\, hvilke tilbakemeldinger får DiBK fra søknadsleverandørene?\n\n\n\n\nNorkart (erfaringer som eneste med løsning for privatpersoner?) \n\n\n\n\nHar de lykkes? Hva er bra – hva er utfordrende/hindringer?\n\n\n\nNorkart forteller om de kommunene som får flest søknader via ebyggesøk – hva har de gjort som fungerer? Ser de store forskjeller og har de tanker om hvorfor?\n\n\n\n\nErfaringsdeling mellom kommunene  \n\n\n\n\nHvordan har reisen vært for kommunene\, får vi flere og bedre søknader med ebyggesøk?\n\n\n\nHva er utfordringene/hindringene og mulighetene/effektene/gevinstene med ebyggesøknadsløsningene?\n\n\n\nBetaling for søknad – skal innbygger betale eller skal kommunen ta regningen?\n\n\n\nVi som kommune har anledning til å si nei til søknader på epost. Hva tenker vi om det\, finnes det kommuner som har brukt denne muligheten?\n\n\n\n\nKlikk her for å bli med i møtet \n\n\n\n\n\n\n\n\n\n                \n                        \n                            Påmelding arrangement\n                             \n                        \n                        This field is hidden when viewing the formJeg ønsker å melde meg på følgende arrangementNavn*E-post*
URL:https://digiviken.no/arrangement/erfaringsdeling-ebyggesoknader/
CATEGORIES:Erfaringsdeling,Teknisk
ATTACH;FMTTYPE=image/png:https://digiviken.no/wp-content/uploads/2024/05/ebyggesok.png
ORGANIZER;CN="Arrang%C3%B8r%3A DigiViken":MAILTO:post@digiviken.no
END:VEVENT
END:VCALENDAR