BEGIN:VCALENDAR
VERSION:2.0
PRODID:-//DigiViken - ECPv6.15.16//NONSGML v1.0//EN
CALSCALE:GREGORIAN
METHOD:PUBLISH
X-WR-CALNAME:DigiViken
X-ORIGINAL-URL:https://digiviken.no
X-WR-CALDESC:Arrangement for DigiViken
REFRESH-INTERVAL;VALUE=DURATION:PT1H
X-Robots-Tag:noindex
X-PUBLISHED-TTL:PT1H
BEGIN:VTIMEZONE
TZID:Europe/Oslo
BEGIN:DAYLIGHT
TZOFFSETFROM:+0100
TZOFFSETTO:+0200
TZNAME:CEST
DTSTART:20240331T010000
END:DAYLIGHT
BEGIN:STANDARD
TZOFFSETFROM:+0200
TZOFFSETTO:+0100
TZNAME:CET
DTSTART:20241027T010000
END:STANDARD
BEGIN:DAYLIGHT
TZOFFSETFROM:+0100
TZOFFSETTO:+0200
TZNAME:CEST
DTSTART:20250330T010000
END:DAYLIGHT
BEGIN:STANDARD
TZOFFSETFROM:+0200
TZOFFSETTO:+0100
TZNAME:CET
DTSTART:20251026T010000
END:STANDARD
BEGIN:DAYLIGHT
TZOFFSETFROM:+0100
TZOFFSETTO:+0200
TZNAME:CEST
DTSTART:20260329T010000
END:DAYLIGHT
BEGIN:STANDARD
TZOFFSETFROM:+0200
TZOFFSETTO:+0100
TZNAME:CET
DTSTART:20261025T010000
END:STANDARD
END:VTIMEZONE
BEGIN:VEVENT
DTSTART;TZID=Europe/Oslo:20251203T081500
DTEND;TZID=Europe/Oslo:20251203T085500
DTSTAMP:20260424T211319
CREATED:20251112T130919Z
LAST-MODIFIED:20251112T131523Z
UID:5635-1764749700-1764752100@digiviken.no
SUMMARY:Fagpåfyll: Felles tjenesteplattform for kommunal sektor
DESCRIPTION:KS Digital skal øke farten på digitaliseringsarbeidet. Et viktig grep er å etablere en felles Tjenesteplattform\, som skal legge til rette for å dele\, gjenbruke og samarbeide om digitale løsninger i kommunal sektor.   \n\n\n\nTjenesteplattformen vil bestå av ulike komponenter som hver for seg og sammen skal lette digitaliseringsarbeidet for kommuner og fylkeskommuner.  \n\n\n\nTjenesteplattformen skal bidra til å;  \n\n\n\n\nØke fart på tjenesteutvikling i kommuner og fylkeskommuner \n\n\n\nØke grad av deling og gjenbruk  \n\n\n\nØke grad av standardiserte og sammenhengende tjenester \n\n\n\n\nØnskede gevinster:  \n\n\n\n\nUnngå dobbeltarbeid – reduserte kostnader \n\n\n\nRaskere realisering – raskere verdi på investeringer \n\n\n\nRaskere uttesting av ideer \n\n\n\n\nI dette faglige påfyllet vil KS Digital fortelle om prosjektet\, og de ulike komponentene i Tjenesteplattformen; applikasjonsplattform\, dataplattform og Allmenningen.  \n\n\n\nVi viser eksempler på hvordan applikasjoner kan etableres og deles fra en kommune til en annen. Vi vil også fortelle hva som trolig blir den første versjonen av Allmenningen.   \n\n\n\nKS Digital jobber sammen med sektoren i arbeidet med Tjenesteplattformen\, og vi ønsker enda flere å jobbe i lag med. Bli med på webinaret og hør om hvordan dette skjer i praksis\, og hvordan akkurat din kommune/fylkeskommune/nettverk/samarbeid kan være med.   \n\n\n\nPÅMELDING
URL:https://digiviken.no/arrangement/fagpafyll-felles-tjenesteplattform-for-kommunal-sektor/
CATEGORIES:Fagpåfyll
ATTACH;FMTTYPE=image/png:https://digiviken.no/wp-content/uploads/2025/11/Tjenesteplattformen-illustrasjon-per-070625.png
END:VEVENT
BEGIN:VEVENT
DTSTART;TZID=Europe/Oslo:20251216T081500
DTEND;TZID=Europe/Oslo:20251216T085500
DTSTAMP:20260424T211319
CREATED:20251112T211439Z
LAST-MODIFIED:20251112T211444Z
UID:5641-1765872900-1765875300@digiviken.no
SUMMARY:Fagpåfyll: Ny episode - Hva skjer når Nordpolen innfører ny teknologi?
DESCRIPTION:Trond Sundby\, CISO i Bærum kommune\, inviterer til digital julegløgg. \n\n\n\nVi vil igjen få bli med på en reise i julenissens verden.  Hva skjer når Nordpolen innfører ny teknologi? \n\n\n\nAlvus blir overveldet og sykemeldt som følge av konstant omorganisering/omstilling.  Det er få ressurser og mange hendelser som skal følges opp. Har Norpolen kontroll når de skal innføre KI på Nordpolen? \n\n\n\nHva gjør julenissen og Alvus gjør for å bedre situasjonen og legger til rette for ansvarlig bruk av KI ved hjelp av rammeverk for styring av kunstig intelligens. \n\n\n\nSpre dette fagpåfyllet til alle i din organisasjon\, for vi trenger alle å bli minnet om omfanget av å tenke på digital sikkerhet. \n\n\n\nFikk du ikke sett fjorårets episode? Nordpolen blir hacket! – (Ta kontakt med tone@digiviken.no hvis du ikke får den opp) \n\n\n\nPÅMELDING
URL:https://digiviken.no/arrangement/fagpafyll-ny-episode-hva-skjer-nar-nordpolen-innforer-ny-teknologi-2/
CATEGORIES:Fagpåfyll,Informasjonssikkerhet og personvern
ATTACH;FMTTYPE=image/jpeg:https://digiviken.no/wp-content/uploads/2024/12/Julenisse-hacked.jpg
ORGANIZER;CN="Arrang%C3%B8r%3A DigiViken":MAILTO:post@digiviken.no
END:VEVENT
BEGIN:VEVENT
DTSTART;TZID=Europe/Oslo:20251217T081500
DTEND;TZID=Europe/Oslo:20251217T085500
DTSTAMP:20260424T211319
CREATED:20251208T194951Z
LAST-MODIFIED:20251208T194953Z
UID:5695-1765959300-1765961700@digiviken.no
SUMMARY:Fagpåfyll: Halden kommune har tatt i bruk norskutviklet KI - Ayfie
DESCRIPTION:Som en av de første i landet har de innført norskutviklet AI for alle ansatte – uten å gå på kompromiss med sikkerhet eller personvern.✔️ Data forblir i kommunen✔️ RAG-teknologi gir faktabaserte svar fra egne kilder✔️ Tilpassede KI-agenter for ulike fagområder✔️ Bygget på norske data\, under norske lover \n\n\n\nØyvind Grandahl\, digitaliseringsansvarlig i Halden kommune vil fortelle om deres erfaringer. \n\n\n\nPÅMELDING 
URL:https://digiviken.no/arrangement/fagpafyll-halden-kommune-har-tatt-i-bruk-norskutviklet-ki-ayfie/
CATEGORIES:Fagpåfyll,Virksomhetsarkitektur
ATTACH;FMTTYPE=image/png:https://digiviken.no/wp-content/uploads/2025/03/KI_gulgronn.jpg.png
ORGANIZER;CN="Arrang%C3%B8r%3A DigiViken":MAILTO:post@digiviken.no
END:VEVENT
BEGIN:VEVENT
DTSTART;TZID=Europe/Oslo:20251219T081500
DTEND;TZID=Europe/Oslo:20251219T085500
DTSTAMP:20260424T211319
CREATED:20251211T172958Z
LAST-MODIFIED:20251211T211142Z
UID:5700-1766132100-1766134500@digiviken.no
SUMMARY:🎄✨Bli med på digitalt juleverksted med Copilot! ✨🎄
DESCRIPTION:Hei alle sammen som har gått grunnkurs i Copilot! \n\n\n\nVi inviterer til et kreativt og morsomt juleverksted – med en digital vri! Har du gjennomført grunnkurset i Copilot og er nysgjerrig på hvordan du kan bruke din nye digitale kollega til noe litt mer… julete? \n\n\n\nI løpet av 40 feststemte minutter skal vi: \n\n\n\n🎅 Lage digitale julekort🧁 Finne på nye juleoppskrifter📝 Skrive limericks og dikt med nisselue på📧 Lage morsomme “Out of Office”-meldinger🎁 Designe gaveetiketter og julegaver til “den som har alt”🎤 Og mye mer! \n\n\n\nDu trenger ingen forkunnskaper utover grunnkurset – her handler det om å leke\, utforske og ha det gøy sammen. Ta med deg en kopp gløgg\, et smil og litt julestemning – resten fikser vi sammen med Copilot! \n\n\n\n🎁 Vi lover latter\, kreativitet og kanskje en overraskelse eller to… \n\n\n\nPÅMELDING
URL:https://digiviken.no/arrangement/%f0%9f%8e%84%e2%9c%a8bli-med-pa-digitalt-juleverksted-med-copilot-%e2%9c%a8%f0%9f%8e%84/
CATEGORIES:Fagpåfyll,Virksomhetsarkitektur
ATTACH;FMTTYPE=image/jpeg:https://digiviken.no/wp-content/uploads/2025/12/Julegoy.jpg
END:VEVENT
END:VCALENDAR