BEGIN:VCALENDAR
VERSION:2.0
PRODID:-//DigiViken - ECPv6.15.16//NONSGML v1.0//EN
CALSCALE:GREGORIAN
METHOD:PUBLISH
X-ORIGINAL-URL:https://digiviken.no
X-WR-CALDESC:Arrangement for DigiViken
REFRESH-INTERVAL;VALUE=DURATION:PT1H
X-Robots-Tag:noindex
X-PUBLISHED-TTL:PT1H
BEGIN:VTIMEZONE
TZID:Europe/Oslo
BEGIN:DAYLIGHT
TZOFFSETFROM:+0100
TZOFFSETTO:+0200
TZNAME:CEST
DTSTART:20250330T010000
END:DAYLIGHT
BEGIN:STANDARD
TZOFFSETFROM:+0200
TZOFFSETTO:+0100
TZNAME:CET
DTSTART:20251026T010000
END:STANDARD
BEGIN:DAYLIGHT
TZOFFSETFROM:+0100
TZOFFSETTO:+0200
TZNAME:CEST
DTSTART:20260329T010000
END:DAYLIGHT
BEGIN:STANDARD
TZOFFSETFROM:+0200
TZOFFSETTO:+0100
TZNAME:CET
DTSTART:20261025T010000
END:STANDARD
BEGIN:DAYLIGHT
TZOFFSETFROM:+0100
TZOFFSETTO:+0200
TZNAME:CEST
DTSTART:20270328T010000
END:DAYLIGHT
BEGIN:STANDARD
TZOFFSETFROM:+0200
TZOFFSETTO:+0100
TZNAME:CET
DTSTART:20271031T010000
END:STANDARD
END:VTIMEZONE
BEGIN:VEVENT
DTSTART;TZID=Europe/Oslo:20260113T081500
DTEND;TZID=Europe/Oslo:20260113T085500
DTSTAMP:20260424T201326
CREATED:20251230T072419Z
LAST-MODIFIED:20251230T072422Z
UID:5762-1768292100-1768294500@digiviken.no
SUMMARY:Fagpåfyll: Hvorfor bruker vi tid på å utvikle løsninger som ingen skal ta i bruk?
DESCRIPTION:Riche Vestby jobber i LUP (leverandørutviklingsprogrammet) som Fagleder/innovasjonspådriver helse og omsorg.  Denne morningen kommer hun til oss for å dele sine tanker om helseteknologi og skalering.  Vi får blant annet høre om: \n\n\n\nHelsetjenesten roper etter teknologi som kan avlaste pressede tjenester\, samtidig som vellykkede løsninger stopper opp lenge før de når bred implementering. Etter mange år med innovasjonsarbeid i helsesektoren sitter Riche Vestby\, innovasjonspådriver og fagleder for helsesatsingen i LUP\, igjen med samme spørsmål: Hvorfor går det så sakte å ta i bruk helseteknologi som allerede har bevist effekt? \n\n\n\nHvis alle snakker om skalering\, men ingen eier ansvaret for at det faktisk skjer\, vil vi fortsette å gå rundt i sirkel. Og helsetjenesten har ikke tid til å gå i sirkel. Arbeidet med å endre systemet må starte nå – og dette må vi gjøre sammen. \n\n\n\nEt første endringsmål kan være at vi begynner å belønne resultater i stedet for aktivitet. \n\n\n\nRiche har også skrevet en kronikk om temaet som er verdt å lese: Hvorfor bruker vi tid på å utvikle løsninger som ingen skal ta i bruk? – Innovative anskaffelser \n\n\n\nPÅMELDING
URL:https://digiviken.no/arrangement/fagpafyll-hvorfor-bruker-vi-tid-pa-a-utvikle-losninger-som-ingen-skal-ta-i-bruk/
CATEGORIES:E-helse,Fagpåfyll
ATTACH;FMTTYPE=image/jpeg:https://digiviken.no/wp-content/uploads/2025/12/riche-vestby-portrett4-redigert-2-1024x1024-1.jpeg
ORGANIZER;CN="Arrang%C3%B8r%3A DigiViken":MAILTO:post@digiviken.no
END:VEVENT
BEGIN:VEVENT
DTSTART;TZID=Europe/Oslo:20260119T081500
DTEND;TZID=Europe/Oslo:20260119T085500
DTSTAMP:20260424T201326
CREATED:20260108T211636Z
LAST-MODIFIED:20260108T212153Z
UID:5773-1768810500-1768812900@digiviken.no
SUMMARY:Fagpåfyll: Kunstig intelligens i helse og omsorg: fra idé til trygg og praktisk bruk i hverdagen
DESCRIPTION:Mange kommuner ønsker å ta i bruk kunstig intelligens\, men spørsmålet kommer raskt: Hva skal vi egentlig bruke KI til i helse- og omsorgstjenesten – og hvordan gjør vi det på en trygg måte? \n\n\n\nI dette fagpåfyllet viser Charles Sanchez fra Fitjar kommune et praktisk case på hvordan KI kan brukes som et støtteverktøy i helsetjenesten. Vi går gjennom hele reisen: fra behovsavklaring og idéutvikling\, til juridiske og etiske vurderinger\, testing i praksis og evaluering av effekt. Fokuset er på løsninger som kan bidra til bedre kvalitet i tjenestene\, støtte ansatte i arbeidshverdagen og samtidig ivareta personvern og pasientsikkerhet. \n\n\n\nDette fagpåfyllet passer for alle som er nysgjerrige på hvordan KI kan brukes konkret og ansvarlig i kommunal helse- og omsorgstjeneste. \n\n\n\nPÅMELDING
URL:https://digiviken.no/arrangement/fagpafyll-kunstig-intelligens-i-helse-og-omsorg-fra-ide-til-trygg-og-praktisk-bruk-i-hverdagen/
CATEGORIES:E-helse,Fagpåfyll
ATTACH;FMTTYPE=image/jpeg:https://digiviken.no/wp-content/uploads/2026/01/Prosjekt.jpeg
ORGANIZER;CN="Arrang%C3%B8r%3A DigiViken":MAILTO:post@digiviken.no
END:VEVENT
END:VCALENDAR