BEGIN:VCALENDAR
VERSION:2.0
PRODID:-//DigiViken - ECPv6.15.16//NONSGML v1.0//EN
CALSCALE:GREGORIAN
METHOD:PUBLISH
X-ORIGINAL-URL:https://digiviken.no
X-WR-CALDESC:Arrangement for DigiViken
REFRESH-INTERVAL;VALUE=DURATION:PT1H
X-Robots-Tag:noindex
X-PUBLISHED-TTL:PT1H
BEGIN:VTIMEZONE
TZID:Europe/Oslo
BEGIN:DAYLIGHT
TZOFFSETFROM:+0100
TZOFFSETTO:+0200
TZNAME:CEST
DTSTART:20250330T010000
END:DAYLIGHT
BEGIN:STANDARD
TZOFFSETFROM:+0200
TZOFFSETTO:+0100
TZNAME:CET
DTSTART:20251026T010000
END:STANDARD
BEGIN:DAYLIGHT
TZOFFSETFROM:+0100
TZOFFSETTO:+0200
TZNAME:CEST
DTSTART:20260329T010000
END:DAYLIGHT
BEGIN:STANDARD
TZOFFSETFROM:+0200
TZOFFSETTO:+0100
TZNAME:CET
DTSTART:20261025T010000
END:STANDARD
BEGIN:DAYLIGHT
TZOFFSETFROM:+0100
TZOFFSETTO:+0200
TZNAME:CEST
DTSTART:20270328T010000
END:DAYLIGHT
BEGIN:STANDARD
TZOFFSETFROM:+0200
TZOFFSETTO:+0100
TZNAME:CET
DTSTART:20271031T010000
END:STANDARD
END:VTIMEZONE
BEGIN:VEVENT
DTSTART;TZID=Europe/Oslo:20260319T081500
DTEND;TZID=Europe/Oslo:20260319T090000
DTSTAMP:20260424T180336
CREATED:20260202T120050Z
LAST-MODIFIED:20260202T120854Z
UID:5889-1773908100-1773910800@digiviken.no
SUMMARY:Fagpåfyll: Hvordan kan vi gi helsepersonell økt digital kompetanse i en travel hverdag?
DESCRIPTION:Påmelding \n\n\n\nRauma kommune stilte seg spørsmålet – Hvordan kan vi gi helsepersonell økt digital kompetanse i en travel hverdag? Dette var problemstillingen de kom opp med under Kompetanseløft 2.0 i Møre og Romsdal. \n\n\n\n20 medarbeidere ved Rauma helsehus har gjennomført en helt ny læringsmetode – korte\, fleksible mikrokurs som kan tas på mobil eller PC\, når det passer. Tilbakemeldingene er tydelige:💡Læring i små doser er effektivt og tilgjengelig💡Innholdet skaper refleksjon og styrker samarbeid💡Mange fullførte alle modulene raskt og uten behov for hjelp \n\n\n\nMikrolæring kan bli en nøkkel for kompetanseutvikling i offentlig sektor – spesielt når vi skal løse samfunnsoppdrag med færre hender og økt behov for helsetjenester \n\n\n\nRauma kommune ved systemkoordinator Mein Kristine Kleiva og helse- og omsorgssjef Margrete Grinaker Berle vil dele sine erfaringer og betraktninger fra arbeidet.
URL:https://digiviken.no/arrangement/fagpafyll-hvordan-kan-vi-gi-helsepersonell-okt-digital-kompetanse-i-en-travel-hverdag/
CATEGORIES:E-helse,Fagpåfyll
ATTACH;FMTTYPE=image/jpeg:https://digiviken.no/wp-content/uploads/2026/02/Raumakommune_Logo.jpg
END:VEVENT
BEGIN:VEVENT
DTSTART;TZID=Europe/Oslo:20260324T081500
DTEND;TZID=Europe/Oslo:20260324T085500
DTSTAMP:20260424T180336
CREATED:20260131T112218Z
LAST-MODIFIED:20260311T114344Z
UID:5876-1774340100-1774342500@digiviken.no
SUMMARY:Fagpåfyll: Påskeharen følger opp sine leverandører
DESCRIPTION:Vi slipper til litt humor i alt det alvorlige\, når Trond Sundby CISO i Bærum kommune\, forteller om hvordan påskeharen tar informasjonssikkerhet på alvor og følger opp sine leverandører. \n\n\n\nSpre dette fagpåfyllet til alle i din organisasjon\, for vi trenger alle å bli minnet om omfanget av å tenke på digital sikkerhet. \n\n\n\nTrond har tidligere vært hos oss med:  \n\n\n\n\nNordpolen blir hacket!\n\n\n\n\n\nHva skjer når Nordpolen innfører ny teknologi\n\n\n\n\nEr du kommunalt ansatt og ikke får disse opp\, kan du be om å bli medlem av vårt team. \n\n\n\nPÅMELDING
URL:https://digiviken.no/arrangement/fagpafyll-paskeharen-folger-opp-sine-leverandorer/
CATEGORIES:Fagpåfyll,Informasjonssikkerhet og personvern
ATTACH;FMTTYPE=image/png:https://digiviken.no/wp-content/uploads/2026/01/paskehare.jpg.png
END:VEVENT
END:VCALENDAR