BEGIN:VCALENDAR
VERSION:2.0
PRODID:-//DigiViken - ECPv6.15.16//NONSGML v1.0//EN
CALSCALE:GREGORIAN
METHOD:PUBLISH
X-ORIGINAL-URL:https://digiviken.no
X-WR-CALDESC:Arrangement for DigiViken
REFRESH-INTERVAL;VALUE=DURATION:PT1H
X-Robots-Tag:noindex
X-PUBLISHED-TTL:PT1H
BEGIN:VTIMEZONE
TZID:Europe/Oslo
BEGIN:DAYLIGHT
TZOFFSETFROM:+0100
TZOFFSETTO:+0200
TZNAME:CEST
DTSTART:20250330T010000
END:DAYLIGHT
BEGIN:STANDARD
TZOFFSETFROM:+0200
TZOFFSETTO:+0100
TZNAME:CET
DTSTART:20251026T010000
END:STANDARD
BEGIN:DAYLIGHT
TZOFFSETFROM:+0100
TZOFFSETTO:+0200
TZNAME:CEST
DTSTART:20260329T010000
END:DAYLIGHT
BEGIN:STANDARD
TZOFFSETFROM:+0200
TZOFFSETTO:+0100
TZNAME:CET
DTSTART:20261025T010000
END:STANDARD
BEGIN:DAYLIGHT
TZOFFSETFROM:+0100
TZOFFSETTO:+0200
TZNAME:CEST
DTSTART:20270328T010000
END:DAYLIGHT
BEGIN:STANDARD
TZOFFSETFROM:+0200
TZOFFSETTO:+0100
TZNAME:CET
DTSTART:20271031T010000
END:STANDARD
END:VTIMEZONE
BEGIN:VEVENT
DTSTART;TZID=Europe/Oslo:20260504T081500
DTEND;TZID=Europe/Oslo:20260504T085500
DTSTAMP:20260424T202112
CREATED:20260422T184149Z
LAST-MODIFIED:20260422T210155Z
UID:6170-1777882500-1777884900@digiviken.no
SUMMARY:Fagpåfyll: Tale til tekst
DESCRIPTION:Hos Halden kommune gjør de nå Tale til tekst via flere løsninger – først og fremst to ulike løsninger i hhv legekontor/legevakt/fysio og Barnevern/HR.  \n\n\n\nØyvind Andre Grandahl vil fortelle om hvordan dette er tatt i bruk og hvilke gevinster de har oppnådd. \n\n\n\nPÅMELDING
URL:https://digiviken.no/arrangement/fagpafyll-tale-til-tekst/
CATEGORIES:Fagpåfyll,KI
ATTACH;FMTTYPE=image/png:https://digiviken.no/wp-content/uploads/2026/04/Designer-29.png
END:VEVENT
BEGIN:VEVENT
DTSTART;TZID=Europe/Oslo:20260512T081500
DTEND;TZID=Europe/Oslo:20260512T085500
DTSTAMP:20260424T202112
CREATED:20260422T185428Z
LAST-MODIFIED:20260422T185436Z
UID:6176-1778573700-1778576100@digiviken.no
SUMMARY:KiNS - Styringssystem for informasjonssikkerhet
DESCRIPTION:Harald Torbjørnsen fra KINS kommer på et fagpåfyll til oss hvor vi får høre om følgende temaer: \n\n\n\n\nKiNS sitt styringssystem og tilgjengelige ressurser\n\n\n\nKompetanse og kursmuligheter\n\n\n\nForankring og ledelsesstyring\n\n\n\nInternkontroll og integrasjon i eksisterende styring\n\n\n\nGrunnleggende forståelse av styringssystem    Praktisk gjennomgang av:\n\nHva et styringssystem for informasjonssikkerhet er – og hvorfor det er nødvendig\n\n\n\nHvordan kommuner typisk starter arbeidet med å etablere et slikt system\n\n\n\nHva som er viktigst å starte med (f.eks. roller\, ansvar og organisering)\n\n\n\n\n\n\nPÅMELDING
URL:https://digiviken.no/arrangement/kins-styringssystem-for-informasjonssikkerhet/
CATEGORIES:Fagpåfyll,Informasjonssikkerhet og personvern
ATTACH;FMTTYPE=image/webp:https://digiviken.no/wp-content/uploads/2025/10/Kins-logo.webp
END:VEVENT
BEGIN:VEVENT
DTSTART;TZID=Europe/Oslo:20260522T081500
DTEND;TZID=Europe/Oslo:20260522T085500
DTSTAMP:20260424T202112
CREATED:20260423T193853Z
LAST-MODIFIED:20260423T193856Z
UID:6183-1779437700-1779440100@digiviken.no
SUMMARY:Fagpåfyll: StøDig
DESCRIPTION:StøDig er et treårig utviklingsprosjekt som ble igangsatt av Utdanningsetaten høsten 2022. Gjennom prosjektet er det utviklet faglige anbefalinger med tilhørende praksisfilmer som handler om hvordan bruke læringsteknologi hensiktsmessig i lese-\, skrive- og språkopplæringen på barnetrinnet.  \n\n\n\nAnbefalingene bygger både på relevant forskning\, teori og en grundig innhenting av praksiserfaringer. Flere barneskoler i Oslo har deltatt som pilotskoler.  \n\n\n\nAnnette Aarflot fra Osloskolen vil fortelle om prosjektet\, hva det inneholder og hvordan det har blitt tatt i mot. \n\n\n\nPÅMELDING
URL:https://digiviken.no/arrangement/fagpafyll-stodig/
CATEGORIES:Fagpåfyll,Oppvekst
ORGANIZER;CN="Arrang%C3%B8r%3A DigiViken":MAILTO:post@digiviken.no
END:VEVENT
END:VCALENDAR