BEGIN:VCALENDAR
VERSION:2.0
PRODID:-//DigiViken - ECPv6.15.16//NONSGML v1.0//EN
CALSCALE:GREGORIAN
METHOD:PUBLISH
X-WR-CALNAME:DigiViken
X-ORIGINAL-URL:https://digiviken.no
X-WR-CALDESC:Arrangement for DigiViken
REFRESH-INTERVAL;VALUE=DURATION:PT1H
X-Robots-Tag:noindex
X-PUBLISHED-TTL:PT1H
BEGIN:VTIMEZONE
TZID:Europe/Oslo
BEGIN:DAYLIGHT
TZOFFSETFROM:+0100
TZOFFSETTO:+0200
TZNAME:CEST
DTSTART:20240331T010000
END:DAYLIGHT
BEGIN:STANDARD
TZOFFSETFROM:+0200
TZOFFSETTO:+0100
TZNAME:CET
DTSTART:20241027T010000
END:STANDARD
BEGIN:DAYLIGHT
TZOFFSETFROM:+0100
TZOFFSETTO:+0200
TZNAME:CEST
DTSTART:20250330T010000
END:DAYLIGHT
BEGIN:STANDARD
TZOFFSETFROM:+0200
TZOFFSETTO:+0100
TZNAME:CET
DTSTART:20251026T010000
END:STANDARD
BEGIN:DAYLIGHT
TZOFFSETFROM:+0100
TZOFFSETTO:+0200
TZNAME:CEST
DTSTART:20260329T010000
END:DAYLIGHT
BEGIN:STANDARD
TZOFFSETFROM:+0200
TZOFFSETTO:+0100
TZNAME:CET
DTSTART:20261025T010000
END:STANDARD
END:VTIMEZONE
BEGIN:VEVENT
DTSTART;TZID=Europe/Oslo:20251106T081500
DTEND;TZID=Europe/Oslo:20251106T085500
DTSTAMP:20260421T102856
CREATED:20251030T111229Z
LAST-MODIFIED:20251030T111531Z
UID:5601-1762416900-1762419300@digiviken.no
SUMMARY:Webinar: Kommuner som lykkes med digitalisering av byggesak
DESCRIPTION:Hva kan vi lære av de som lykkes? Linn-Ida Ellingsen fra Direktoratet for byggkvalitet presenterer funn fra sin masterstudie om hva som karakteriserer kommuner som lykkes med dette. Studien går inn på tema som samhandling og struktur\, læring og lederskap\, og deler noen konkrete anbefalinger.  \n\n\n\nSven Norland fra Stavanger kommune vil også dele sine erfaringer knyttet til innføring av eByggesak\, og si litt om hvorfor de har lykkes og hvilke utfordringer de har støtt på. \n\n\n\nMøtet gjennomføres på teams. Gå inn på møtet via denne lenken (oppstart kl. 08.15): \n\n\n\nBli med i møtet
URL:https://digiviken.no/arrangement/webinar-kommuner-som-lykkes-med-digitalisering-av-byggesak/
CATEGORIES:Teknisk,webinar
ATTACH;FMTTYPE=image/svg+xml:https://digiviken.no/wp-content/uploads/2025/09/ks.jpb_.svg
END:VEVENT
BEGIN:VEVENT
DTSTART;TZID=Europe/Oslo:20251112T090000
DTEND;TZID=Europe/Oslo:20251112T150000
DTSTAMP:20260421T102856
CREATED:20251026T073127Z
LAST-MODIFIED:20251026T074105Z
UID:5590-1762938000-1762959600@digiviken.no
SUMMARY:Sikkerkommune 2025
DESCRIPTION:KS’ fagråd for informasjonssikkerhet og personvern arrangerer Sikker kommune 2025 om sikkerhet og personvern i kommuner og fylkeskommuner 12. november.  \n\n\n\nPå sikkerkommune får kommuner og fylkeskommuner mulighet til å oppdatere seg på den nyeste utviklingen innenfor informasjonssikkerhet og personvern som spesifikt er tilpasset kommunenes behov.  \n\n\n\nAllsidig program  \n\n\n\nPå webinaret får vi blant annet høre Helse- og kommuneCerts leder Leder Gunnar A. Johansen snakke om trusslebildet for kommunal sektor og politiet ved senior informasjonssikkerhetsrådgiver Simen Bakke snakke om Kinas økosystemer for offensive cyberoperasjoner. IKT Agder ved CISO Olve Sveen gir oss innblikk i dataangrep i Agder\, og Ålesund kommune deler innblikk i sine erfaringer fra en skarp beredskapsøvelse i sin kommune – blant annet.   \n\n\n\nKS vil også informere om sentrale aktiviteter som vi kjører for tiden og om nasjonale initiativ\, og vi får høre om nye krav og en ny virkelighet med kommende EU-regelverk ved Oslo og Asker kommune.   \n\n\n\nAgenda for Sikkerkommune 2025 \n\n\n\nTidTemaForedragsholder09.00 – 09.05Velkommen til Sikkerkommune 2025Asbjørn Finstad\, Avdelingsdirektør Sikt09.05 – 09.10Gjennomgang av agendaSuhail Mushtaq\, Fagsjef KS09.10 – 09.40Trusselbildet for kommunal sektorGunnar A. Johansen\, Leder Helse- og kommuneCert09.40– 10.10Hva ser vi av dataangrep i Agder Hvordan ser trusselbildet ut for offentlig sektor – og hva fanges opp gjennom sikkerhetsovervåking? I dette foredraget får du et overordnet innblikk i sikkerhetshendelser og cybertrusler mot kommunene i Agder\, basert på observasjoner fra vår SOC. Et godt utgangspunkt for å forstå risiko og styrke beredskapen.Olve Sveen\, IKT Agder\, CISO10.10 – 10.20Pause 10.20 – 11.05Kinas økosystem for offensive cyberoperasjoner Kina utfører et betydelig omfang offensive cyberoperasjoner. Årlig hører vi advarsler fra Etterretningstjenesten og PST om spionasje fra Kina og kinesiske aktører. Men hvordan har Kina egentlig etablert strukturer og rigget samfunnet til å bli en stormakt i cyberdomenet? Og hvordan tar regimet i Beijing i bruk alle samfunnets ressurser for å understøtte myndighetenes offensive cyberoperasjoner? I dette foredraget vil du få et dypdykk i hvordan økosystemet av sivile hackere\, private IT-selskaper\, universiteter og etterretningstjenester samarbeider og spiller på lag med hverandre for å understøtte kinesiske myndigheters offensive cyberoperasjoner.Simen Bakke\, senior informasjonssikkerhetsrådgiver\, Politiet11.05 – 11.15Pause 11.15 – 11.35Nye krav\, ny virkelighet: kommende EU regelverkDigitalisering\, kunstig intelligens og økt datadeling utfordrer personvernet i stadig større grad. Foredraget gir innsikt i hvordan nye reguleringer fra EU vil påvirke kommunenes arbeid med data\, teknologi og personvern. Med særlig fokus på EUs nye KI-forordning og de foreslåtte endringene i GDPR 2.0. belyses hvilke krav som er på vei\, og hvilke praktiske konsekvenser disse kan fåMaryke Maryke Silalahi Nuth\, fagsjef personvern Oslo kommuneEirin Oda Lauvset\, personvernombud Asker kommune11.35 – 12.05Veien fram til å bli «Årets KI-kommune» Hvordan ivareta personvern og etikk når toget dundrer av sted …Jens Otto Skåra Hansen\, rådgiver Stavanger kommune12.05 – 12.40Lunsj 12.40 – 13.20Erfaring fra en skarp (reell) beredskapsøvelse i Ålesund kommuneÅse Karin Gjære\, sikkerhetsansvarlig Ålesund kommune13.20 – 13.50Hva gjør SKR i forhold til implementering av NIS2 i kommunal sektorJohan Thulin\, Cybersäkerhetsstrateg\, SKR (KS Sverige)13.50 – 14.00Pause 14.00 – 14.30Ny deklareringsording for helseteknologi for leverandørerGeir-Erlend Myhre Johansen\, Seniorrådgiver Helsedirektoratet14.30 – 14.50Fordeler og utfordringer med forskrift til automatisert saksbehandlingStine Jakobsson Strømsø\, Kommunedirektør Senja kommune14.50 – 15.00Kort om nasjonale initiativ og oppsummeringSuhail Mushtaq\, Fagsjef KS\n\n\n\nLenke til Sikkerkommune 2025: Sikkerkommune 2025  \n\n\n\nVi setter stor pris om du videresender denne invitasjonen til andre i kommunal sektor. \n\n\n\nVel møtt til Sikker kommune 2025!
URL:https://digiviken.no/arrangement/sikkerkommune-2025/
CATEGORIES:Informasjonssikkerhet og personvern,webinar
ATTACH;FMTTYPE=image/jpeg:https://digiviken.no/wp-content/uploads/2025/08/Sikkerhet.jpg
END:VEVENT
BEGIN:VEVENT
DTSTART;TZID=Europe/Oslo:20251114T090000
DTEND;TZID=Europe/Oslo:20251114T110000
DTSTAMP:20260421T102856
CREATED:20251025T151236Z
LAST-MODIFIED:20251025T151239Z
UID:5586-1763110800-1763118000@digiviken.no
SUMMARY:Webinar: Anskaffelse av helseteknologi - innovasjon i kontraktsperioden
DESCRIPTION:Dette er spørsmål vi dukker ned i dette webinaret der vi ser nærmere på relasjonskontrakter og value engineering (VE). \n\n\n\nWebinaret er et samarbeid mellom KS og Leverandørutviklingsprogrammet (LUP). \n\n\n\nRelasjonskontrakter er særlig egnet i situasjoner der løsninger og rammebetingelser er i konstant utvikling\, og hvor innovasjon og tilpasning er viktige for begge parter. Gjennom relasjonskontrakter flytter man fokus fra hva som skjer hvis noe går galt\, til hvordan man sammen kan sikre at ting går riktig. \n\n\n\nDette får du høre mer om i dette webinaret der vi også gir en presentasjon av value engineering som er en operasjonell\, konkret og balansert metode for å videreutvikle løsningen sammen med leverandør. \n\n\n\nDu møter innledere fra KS\, Helsedirektoratet\, Bodø kommune og LUP. \n\n\n\nForeløpig agenda: \n\n\n\n\nTakk for i dag\n\n\n\n\n\nVelkommen og bakteppe\n\n\n\n\n\nHva er relasjonskontrakter – og hvorfor trenger vi det?\n\n\n\n\n\nHva gjør LUP på området?\n\n\n\n\n\nEksempel: Bodø kommunes fellesanskaffelse av EPJ\n\n\n\n\n\nHva er value engineering?\n\n\n\n\nPÅMELDING
URL:https://digiviken.no/arrangement/webinar-anskaffelse-av-helseteknologi-innovasjon-i-kontraktsperioden/
CATEGORIES:webinar
ATTACH;FMTTYPE=image/svg+xml:https://digiviken.no/wp-content/uploads/2025/09/ks.jpb_.svg
END:VEVENT
BEGIN:VEVENT
DTSTART;TZID=Europe/Oslo:20251120T081500
DTEND;TZID=Europe/Oslo:20251120T085500
DTSTAMP:20260421T102856
CREATED:20251021T061603Z
LAST-MODIFIED:20251021T061608Z
UID:5581-1763626500-1763628900@digiviken.no
SUMMARY:KI i praksis: Om KI-agenter ved Byplankontoret i Trondheim kommune
DESCRIPTION:I  dette innlegget deler Byplankontoret i Trondheim kommune sin erfaring med å implementere kunstig intelligens (KI) i den daglige driften. De har valgt en praktisk tilnærming der de utvikler skreddersydde KI-agenter for å løse konkrete utfordringer. \n\n\n\nKI i praksis: Om KI-agenter ved Byplankontoret i Trondheim kommune – Hjem \n\n\n\nAhmad Gashamy\, tjenestedesigner på Byplankontoret i Trondheim kommune\, vil vise hvordan disse agentene bidrar til å forbedre og effektivisere saksbehandlingen. Et sentralt eksempel er deres KI-agent for planjurister\, som er utviklet for å assistere med gjennomgang av planbestemmelser. Denne agenten er et kraftfullt verktøy som bidrar til å sikre kvalitet\, spare tid og forenkle en kompleks del av arbeidet. \n\n\n\nDe vil også berøre deres erfaringer med å skalere denne tilnærmingen\, og hvordan de ser for seg at slike spesialiserte KI-agenter\, eller gems\, kan bli en integrert del av den kommunale saksbehandlingen i fremtiden.
URL:https://digiviken.no/arrangement/ki-i-praksis-om-ki-agenter-ved-byplankontoret-i-trondheim-kommune/
CATEGORIES:webinar
ATTACH;FMTTYPE=image/svg+xml:https://digiviken.no/wp-content/uploads/2025/09/ks.jpb_.svg
END:VEVENT
BEGIN:VEVENT
DTSTART;TZID=Europe/Oslo:20251120T090000
DTEND;TZID=Europe/Oslo:20251120T100000
DTSTAMP:20260421T102856
CREATED:20251108T084528Z
LAST-MODIFIED:20251108T084531Z
UID:5629-1763629200-1763632800@digiviken.no
SUMMARY:Webinar om digital sikkerhet med NSM\, Digital Norway og KS
DESCRIPTION:Nasjonal sikkerhetsmyndighet gir en situasjonsbeskrivelse om digitale trusler\, og fokusområder for kommunal sektor.  \n\n\n\nKS og Digital Norway bidrar med praktiske verktøy for arbeid med sikkerhet i kommunen. \n\n\n\n👥Målgruppe \n\n\n\nLedere og ansatte i kommunal sektor med ansvar for digital kompetanseutvikling\, og digital sikkerhet og beredskap.  \n\n\n\n📺Følg webinaret her \n\n\n\nKlikk her for å delta 20. november 9.00 – 10.00  \n\n\n\nArrangementsside Webinar om digital sikkerhet med NSM\, Digital Norway og KS \n\n\n\nOm KS’ arbeid med digital kompetanse https://www.ks.no/fagomrader/digitalisering/digital-kompetanse/ \n\n\n\n🕘Agenda\n\n\n\n9.00 Velkommen fra KS  \n\n\n\n9.05 Digitale trusler; situasjonsbeskrivelse og fokusområder for kommunal sektor v/ Roar Thon\, Nasjonal sikkerhetsmyndighet \n\n\n\n9.20 Hva kan KS bidra med? v/Suhail  Mushtaq\, fagsjef KS strategisk IKT og digitalisering \n\n\n\n9.35 Kurs og kompetanse fra Digital Norway v/Helge Dahl Jørgensen\, Fagansvarlig industriell digitalisering hos Digital Norway \n\n\n\n9.45 Spørsmål fra chatten til innledere  \n\n\n\n10.00 Avslutning  \n\n\n\n🎓Kurs og veiledere fra KS og Digital Norway\n\n\n\nAnbefalte felles sikkerhetskrav for kommunal sektor – KS \n\n\n\nKurs om digital sikkerhet og beredskap fra Digital Norway \n\n\n\nVeiviser for å hindre dataangrep og digitale hendelser – KS
URL:https://digiviken.no/arrangement/webinar-om-digital-sikkerhet-med-nsm-digital-norway-og-ks/
CATEGORIES:Informasjonssikkerhet og personvern,webinar
ATTACH;FMTTYPE=image/jpeg:https://digiviken.no/wp-content/uploads/2025/08/sikkerhet4.jpg
END:VEVENT
END:VCALENDAR